BEGIN:VCALENDAR
PRODID:-//Events Calendar//iCal4j 1.0//EN
CALSCALE:GREGORIAN
BEGIN:VEVENT
DTSTAMP:20260423T134844Z
DTSTART:20260503T110000
DTEND:20260503T160000
SUMMARY:Ontmoetingsdag Stichting Dian
TZID:Europe/Brussels
UID:20260423T134844Z-uidGen@fe80:0:0:0:a861:dfff:fe72:4527%eth0
DESCRIPTION:Een gezellige middag vol Indonesische cultuur\, dans en samenzijn\, waar Diemenaren met diverse achtergronden elkaar ontmoeten en verbinden onder het genot van gratis hapjes en drankjes.
LOCATION:Wijkcentrum De Schakel
END:VEVENT
END:VCALENDAR
